BEGIN:VCALENDAR
VERSION:2.0
PRODID:-//Compton Parish Council//Meeting Calendar//EN
CALSCALE:GREGORIAN
METHOD:PUBLISH
BEGIN:VEVENT
UID:70605-20241105@comptonwestsussex-pc.gov.uk
DTSTAMP:20260423T090148Z
DTSTART;VALUE=DATE:20241105
DTEND;VALUE=DATE:20241106
SUMMARY:Parish Council Meeting &#8211\\; 5th November 2024
DESCRIPTION:Full Council Meeting\nView details: https://comptonwestsussex-pc.gov.uk/meetings/parish-council-meeting-5the-november/
URL:https://comptonwestsussex-pc.gov.uk/meetings/parish-council-meeting-5the-november/
END:VEVENT
END:VCALENDAR
