BEGIN:VCALENDAR
VERSION:2.0
PRODID:-//Compton Parish Council//Meeting Calendar//EN
CALSCALE:GREGORIAN
METHOD:PUBLISH
BEGIN:VEVENT
UID:70385-20210721@comptonwestsussex-pc.gov.uk
DTSTAMP:20260421T083748Z
DTSTART;VALUE=DATE:20210721
DTEND;VALUE=DATE:20210722
SUMMARY:Parish Council Meeting &#8211\\; 21st July 2021
DESCRIPTION:Full Council Meeting\nView details: https://comptonwestsussex-pc.gov.uk/meetings/annual-meeting-of-compton-parish-council-21st-july-2021/
URL:https://comptonwestsussex-pc.gov.uk/meetings/annual-meeting-of-compton-parish-council-21st-july-2021/
END:VEVENT
END:VCALENDAR
